BEGIN:VCALENDAR
VERSION:2.0
PRODID:-//Batavia Township - ECPv6.15.20//NONSGML v1.0//EN
CALSCALE:GREGORIAN
METHOD:PUBLISH
X-WR-CALNAME:Batavia Township
X-ORIGINAL-URL:https://www.bataviatownship.com
X-WR-CALDESC:Events for Batavia Township
REFRESH-INTERVAL;VALUE=DURATION:PT1H
X-Robots-Tag:noindex
X-PUBLISHED-TTL:PT1H
BEGIN:VTIMEZONE
TZID:America/New_York
BEGIN:DAYLIGHT
TZOFFSETFROM:-0500
TZOFFSETTO:-0400
TZNAME:EDT
DTSTART:20190310T070000
END:DAYLIGHT
BEGIN:STANDARD
TZOFFSETFROM:-0400
TZOFFSETTO:-0500
TZNAME:EST
DTSTART:20191103T060000
END:STANDARD
BEGIN:DAYLIGHT
TZOFFSETFROM:-0500
TZOFFSETTO:-0400
TZNAME:EDT
DTSTART:20200308T070000
END:DAYLIGHT
BEGIN:STANDARD
TZOFFSETFROM:-0400
TZOFFSETTO:-0500
TZNAME:EST
DTSTART:20201101T060000
END:STANDARD
BEGIN:DAYLIGHT
TZOFFSETFROM:-0500
TZOFFSETTO:-0400
TZNAME:EDT
DTSTART:20210314T070000
END:DAYLIGHT
BEGIN:STANDARD
TZOFFSETFROM:-0400
TZOFFSETTO:-0500
TZNAME:EST
DTSTART:20211107T060000
END:STANDARD
END:VTIMEZONE
BEGIN:VEVENT
DTSTART;TZID=America/New_York:20201013T190000
DTEND;TZID=America/New_York:20201013T190000
DTSTAMP:20260420T042221
CREATED:20200923T213914Z
LAST-MODIFIED:20210507T170856Z
UID:1117-1602615600-1602615600@www.bataviatownship.com
SUMMARY:Township Board Meeting Oct 2020
DESCRIPTION:This meeting was held via Zoom
URL:https://www.bataviatownship.com/event/township-board-meeting-oct-2020/
LOCATION:IL
END:VEVENT
BEGIN:VEVENT
DTSTART;TZID=America/New_York:20200915T190000
DTEND;TZID=America/New_York:20200915T190000
DTSTAMP:20260420T042221
CREATED:20200923T214459Z
LAST-MODIFIED:20210507T170735Z
UID:1123-1600196400-1600196400@www.bataviatownship.com
SUMMARY:Special Township Board Meeting
DESCRIPTION:This meeting was held via Zoom
URL:https://www.bataviatownship.com/event/special-township-board-meeting/
LOCATION:IL
END:VEVENT
BEGIN:VEVENT
DTSTART;TZID=America/New_York:20200908T193000
DTEND;TZID=America/New_York:20200908T193000
DTSTAMP:20260420T042221
CREATED:20200923T214900Z
LAST-MODIFIED:20210507T171043Z
UID:1127-1599593400-1599593400@www.bataviatownship.com
SUMMARY:Annual Town Meeting
DESCRIPTION:Meeting will follow the Township Board Meeting. \nThis meeting was held via Zoom
URL:https://www.bataviatownship.com/event/annual-town-meeting/
LOCATION:IL
END:VEVENT
BEGIN:VEVENT
DTSTART;TZID=America/New_York:20200908T190000
DTEND;TZID=America/New_York:20200908T190000
DTSTAMP:20260420T042221
CREATED:20200923T214532Z
LAST-MODIFIED:20210507T170649Z
UID:1125-1599591600-1599591600@www.bataviatownship.com
SUMMARY:Township Board Meeting Sep 2020
DESCRIPTION:This meeting was held via Zoom
URL:https://www.bataviatownship.com/event/township-board-meeting-sep-2020/
LOCATION:IL
END:VEVENT
END:VCALENDAR