BEGIN:VCALENDAR
VERSION:2.0
PRODID:-//Batavia Township - ECPv6.15.20//NONSGML v1.0//EN
CALSCALE:GREGORIAN
METHOD:PUBLISH
X-ORIGINAL-URL:https://www.bataviatownship.com
X-WR-CALDESC:Events for Batavia Township
REFRESH-INTERVAL;VALUE=DURATION:PT1H
X-Robots-Tag:noindex
X-PUBLISHED-TTL:PT1H
BEGIN:VTIMEZONE
TZID:America/New_York
BEGIN:DAYLIGHT
TZOFFSETFROM:-0500
TZOFFSETTO:-0400
TZNAME:EDT
DTSTART:20250309T070000
END:DAYLIGHT
BEGIN:STANDARD
TZOFFSETFROM:-0400
TZOFFSETTO:-0500
TZNAME:EST
DTSTART:20251102T060000
END:STANDARD
BEGIN:DAYLIGHT
TZOFFSETFROM:-0500
TZOFFSETTO:-0400
TZNAME:EDT
DTSTART:20260308T070000
END:DAYLIGHT
BEGIN:STANDARD
TZOFFSETFROM:-0400
TZOFFSETTO:-0500
TZNAME:EST
DTSTART:20261101T060000
END:STANDARD
BEGIN:DAYLIGHT
TZOFFSETFROM:-0500
TZOFFSETTO:-0400
TZNAME:EDT
DTSTART:20270314T070000
END:DAYLIGHT
BEGIN:STANDARD
TZOFFSETFROM:-0400
TZOFFSETTO:-0500
TZNAME:EST
DTSTART:20271107T060000
END:STANDARD
END:VTIMEZONE
BEGIN:VEVENT
DTSTART;TZID=America/New_York:20260310T184500
DTEND;TZID=America/New_York:20260310T184500
DTSTAMP:20260421T233640
CREATED:20260107T045618Z
LAST-MODIFIED:20260107T050830Z
UID:2981-1773168300-1773168300@www.bataviatownship.com
SUMMARY:Township Board Meeting March 2026
DESCRIPTION:6:45pm Budget Hearing—Pass Budget  – \n7:00pm Monthly Meeting
URL:https://www.bataviatownship.com/event/township-board-meeting-march-2026/
LOCATION:Batavia Township Administrative Offices\, 201 Houston Street Suite 300\, Batavia\, IL\, 60510\, United States
END:VEVENT
END:VCALENDAR